BEGIN:VCALENDAR
VERSION:2.0
PRODID:-//NDLA - &quot;We&#039;re the Place Where Learning Comes First&quot; - ECPv6.15.13//NONSGML v1.0//EN
CALSCALE:GREGORIAN
METHOD:PUBLISH
X-ORIGINAL-URL:https://nurturingdevelopment.com
X-WR-CALDESC:Events for NDLA - &quot;We&#039;re the Place Where Learning Comes First&quot;
REFRESH-INTERVAL;VALUE=DURATION:PT1H
X-Robots-Tag:noindex
X-PUBLISHED-TTL:PT1H
BEGIN:VTIMEZONE
TZID:UTC
BEGIN:STANDARD
TZOFFSETFROM:+0000
TZOFFSETTO:+0000
TZNAME:UTC
DTSTART:20110101T000000
END:STANDARD
END:VTIMEZONE
BEGIN:VEVENT
DTSTART;TZID=UTC:20121005T090000
DTEND;TZID=UTC:20121005T130059
DTSTAMP:20260424T104304
CREATED:20120929T131833Z
LAST-MODIFIED:20121020T135252Z
UID:877-1349427600-1349442059@nurturingdevelopment.com
SUMMARY:Pumpkin Patch Field Trip
DESCRIPTION:
URL:https://nurturingdevelopment.com/event/pumpkin-patch-field-trip/
CATEGORIES:NDLA Calendar
END:VEVENT
BEGIN:VEVENT
DTSTART;TZID=UTC:20120929T180000
DTEND;TZID=UTC:20120929T210059
DTSTAMP:20260424T104304
CREATED:20120929T131155Z
LAST-MODIFIED:20120929T131155Z
UID:875-1348941600-1348952459@nurturingdevelopment.com
SUMMARY:Pajama Jam
DESCRIPTION:
URL:https://nurturingdevelopment.com/event/pajama-jam/
CATEGORIES:NDLA Calendar
END:VEVENT
BEGIN:VEVENT
DTSTART;TZID=UTC:20120925T183000
DTEND;TZID=UTC:20120925T193059
DTSTAMP:20260424T104304
CREATED:20120929T131440Z
LAST-MODIFIED:20121020T135300Z
UID:876-1348597800-1348601459@nurturingdevelopment.com
SUMMARY:Family Partnership Night
DESCRIPTION:
URL:https://nurturingdevelopment.com/event/family-partnership-night-5/
CATEGORIES:NDLA Calendar
END:VEVENT
BEGIN:VEVENT
DTSTART;TZID=UTC:20120914T090000
DTEND;TZID=UTC:20120914T130059
DTSTAMP:20260424T104304
CREATED:20120929T130917Z
LAST-MODIFIED:20120929T130917Z
UID:874-1347613200-1347627659@nurturingdevelopment.com
SUMMARY:Apple Orchard Field Trip
DESCRIPTION:
URL:https://nurturingdevelopment.com/event/apple-orchard-field-trip/
CATEGORIES:NDLA Calendar
END:VEVENT
BEGIN:VEVENT
DTSTART;VALUE=DATE:20120904
DTEND;VALUE=DATE:20120905
DTSTAMP:20260424T104304
CREATED:20120929T125421Z
LAST-MODIFIED:20120929T125421Z
UID:872-1346716800-1346803199@nurturingdevelopment.com
SUMMARY:First Day of Class
DESCRIPTION:
URL:https://nurturingdevelopment.com/event/first-day-of-class/
CATEGORIES:NDLA Calendar
END:VEVENT
BEGIN:VEVENT
DTSTART;VALUE=DATE:20120903
DTEND;VALUE=DATE:20120904
DTSTAMP:20260424T104304
CREATED:20120929T125247Z
LAST-MODIFIED:20120929T125247Z
UID:871-1346630400-1346716799@nurturingdevelopment.com
SUMMARY:Labor Day - NDLA closed
DESCRIPTION:
URL:https://nurturingdevelopment.com/event/labor-day-ndla-closed/
CATEGORIES:NDLA Calendar
END:VEVENT
BEGIN:VEVENT
DTSTART;VALUE=DATE:20120604
DTEND;VALUE=DATE:20120605
DTSTAMP:20260424T104304
CREATED:20111224T160744Z
LAST-MODIFIED:20120209T080053Z
UID:244-1338768000-1338854399@nurturingdevelopment.com
SUMMARY:Summer Camp Begins
DESCRIPTION:Summer Camp Begins
URL:https://nurturingdevelopment.com/event/summer-camp-begins/
CATEGORIES:NDLA Calendar
END:VEVENT
BEGIN:VEVENT
DTSTART;TZID=UTC:20120129T183000
DTEND;TZID=UTC:20121020T193059
DTSTAMP:20260424T104304
CREATED:20121020T155423Z
LAST-MODIFIED:20121020T155423Z
UID:898-1327861800-1350761459@nurturingdevelopment.com
SUMMARY:Family Partnership Night
DESCRIPTION:
URL:https://nurturingdevelopment.com/event/family-partnership-night-8/
CATEGORIES:NDLA Calendar
END:VEVENT
END:VCALENDAR