BEGIN:VCALENDAR
VERSION:2.0
PRODID:-//NDLA - &quot;We&#039;re the Place Where Learning Comes First&quot; - ECPv6.15.13//NONSGML v1.0//EN
CALSCALE:GREGORIAN
METHOD:PUBLISH
X-WR-CALNAME:NDLA - &quot;We&#039;re the Place Where Learning Comes First&quot;
X-ORIGINAL-URL:https://nurturingdevelopment.com
X-WR-CALDESC:Events for NDLA - &quot;We&#039;re the Place Where Learning Comes First&quot;
REFRESH-INTERVAL;VALUE=DURATION:PT1H
X-Robots-Tag:noindex
X-PUBLISHED-TTL:PT1H
BEGIN:VTIMEZONE
TZID:UTC
BEGIN:STANDARD
TZOFFSETFROM:+0000
TZOFFSETTO:+0000
TZNAME:UTC
DTSTART:20120101T000000
END:STANDARD
END:VTIMEZONE
BEGIN:VEVENT
DTSTART;VALUE=DATE:20150309
DTEND;VALUE=DATE:20150314
DTSTAMP:20260423T200245
CREATED:20130917T145122Z
LAST-MODIFIED:20141119T173958Z
UID:1191-1425859200-1426291199@nurturingdevelopment.com
SUMMARY:Real Men Read Week
DESCRIPTION:
URL:https://nurturingdevelopment.com/event/real-men-read-week-3/
CATEGORIES:NDLA Calendar
END:VEVENT
BEGIN:VEVENT
DTSTART;TZID=UTC:20150220T150000
DTEND;TZID=UTC:20150220T160000
DTSTAMP:20260423T200245
CREATED:20130917T145049Z
LAST-MODIFIED:20141119T174128Z
UID:1190-1424444400-1424448000@nurturingdevelopment.com
SUMMARY:Black History Program
DESCRIPTION:
URL:https://nurturingdevelopment.com/event/black-history-program-3/
CATEGORIES:NDLA Calendar
END:VEVENT
BEGIN:VEVENT
DTSTART;VALUE=DATE:20150216
DTEND;VALUE=DATE:20150217
DTSTAMP:20260423T200245
CREATED:20130917T144955Z
LAST-MODIFIED:20141119T174235Z
UID:1189-1424044800-1424131199@nurturingdevelopment.com
SUMMARY:President’s Day – No School for students
DESCRIPTION:
URL:https://nurturingdevelopment.com/event/presidents-day-no-school-for-students-2/
CATEGORIES:NDLA Calendar
END:VEVENT
BEGIN:VEVENT
DTSTART;TZID=UTC:20150211T170000
DTEND;TZID=UTC:20150211T190000
DTSTAMP:20260423T200245
CREATED:20130917T150053Z
LAST-MODIFIED:20141119T173800Z
UID:1199-1423674000-1423681200@nurturingdevelopment.com
SUMMARY:Parent Teacher Conference
DESCRIPTION:
URL:https://nurturingdevelopment.com/event/parent-teacher-conference-7/
CATEGORIES:NDLA Calendar
END:VEVENT
BEGIN:VEVENT
DTSTART;TZID=UTC:20150122T183000
DTEND;TZID=UTC:20150122T193000
DTSTAMP:20260423T200245
CREATED:20130917T144742Z
LAST-MODIFIED:20141119T174552Z
UID:1186-1421951400-1421955000@nurturingdevelopment.com
SUMMARY:Family Partnership Night
DESCRIPTION:
URL:https://nurturingdevelopment.com/event/family-partnership-night-15/
CATEGORIES:NDLA Calendar
END:VEVENT
BEGIN:VEVENT
DTSTART;VALUE=DATE:20150119
DTEND;VALUE=DATE:20150120
DTSTAMP:20260423T200245
CREATED:20130917T144631Z
LAST-MODIFIED:20141119T174702Z
UID:1185-1421625600-1421711999@nurturingdevelopment.com
SUMMARY:Martin Luther King Jr. Day – NDLA Closed
DESCRIPTION:
URL:https://nurturingdevelopment.com/event/martin-luther-king-jr-day-ndla-closed-2/
CATEGORIES:NDLA Calendar
END:VEVENT
BEGIN:VEVENT
DTSTART;VALUE=DATE:20150101
DTEND;VALUE=DATE:20150102
DTSTAMP:20260423T200245
CREATED:20141119T175739Z
LAST-MODIFIED:20141119T180434Z
UID:1392-1420070400-1420156799@nurturingdevelopment.com
SUMMARY:New Years Day - NDLA closed
DESCRIPTION:
URL:https://nurturingdevelopment.com/event/new-years-day-ndla-closed/
CATEGORIES:NDLA Calendar
END:VEVENT
BEGIN:VEVENT
DTSTART;VALUE=DATE:20141225
DTEND;VALUE=DATE:20141227
DTSTAMP:20260423T200245
CREATED:20130917T143816Z
LAST-MODIFIED:20141119T175132Z
UID:1182-1419465600-1419638399@nurturingdevelopment.com
SUMMARY:Christmas Observed – NDLA Closed
DESCRIPTION:
URL:https://nurturingdevelopment.com/event/christmas-observed-ndla-closed-2/
CATEGORIES:NDLA Calendar
END:VEVENT
BEGIN:VEVENT
DTSTART;VALUE=DATE:20141224
DTEND;VALUE=DATE:20141225
DTSTAMP:20260423T200245
CREATED:20141119T175452Z
LAST-MODIFIED:20141119T180640Z
UID:1390-1419379200-1419465599@nurturingdevelopment.com
SUMMARY:Closes Early
DESCRIPTION:Closes Early at 3:00PM
URL:https://nurturingdevelopment.com/event/close-early-3/
CATEGORIES:NDLA Calendar
END:VEVENT
BEGIN:VEVENT
DTSTART;VALUE=DATE:20141127
DTEND;VALUE=DATE:20141129
DTSTAMP:20260423T200245
CREATED:20130917T143342Z
LAST-MODIFIED:20141119T170529Z
UID:1179-1417046400-1417219199@nurturingdevelopment.com
SUMMARY:Thanksgiving Recess – NDLA Closed
DESCRIPTION:
URL:https://nurturingdevelopment.com/event/thanksgiving-recess-ndla-closed/
CATEGORIES:NDLA Calendar
END:VEVENT
BEGIN:VEVENT
DTSTART;VALUE=DATE:20141126
DTEND;VALUE=DATE:20141127
DTSTAMP:20260423T200245
CREATED:20130917T143205Z
LAST-MODIFIED:20141119T175300Z
UID:1177-1416960000-1417046399@nurturingdevelopment.com
SUMMARY:Close Early
DESCRIPTION:Closes Early at 3:00PM
URL:https://nurturingdevelopment.com/event/close-early-2/
CATEGORIES:NDLA Calendar
END:VEVENT
BEGIN:VEVENT
DTSTART;VALUE=DATE:20141030
DTEND;VALUE=DATE:20141031
DTSTAMP:20260423T200245
CREATED:20141023T144806Z
LAST-MODIFIED:20141119T172139Z
UID:1187-1414627200-1414713599@nurturingdevelopment.com
SUMMARY:Hearing and Vision Re-screening (non PFA)
DESCRIPTION:
URL:https://nurturingdevelopment.com/event/hearing-and-vision-re-screening-non-pfa-2/
CATEGORIES:NDLA Calendar
END:VEVENT
BEGIN:VEVENT
DTSTART;TZID=UTC:20140107T060000
DTEND;TZID=UTC:20140107T220059
DTSTAMP:20260423T200245
CREATED:20140107T015155Z
LAST-MODIFIED:20140107T015207Z
UID:1360-1389074400-1389132059@nurturingdevelopment.com
SUMMARY:NDLA is OPEN
DESCRIPTION:NDLA will be OPEN for business Tuesday January 6\, 2014
URL:https://nurturingdevelopment.com/event/ndla-is-open/
CATEGORIES:NDLA Calendar
END:VEVENT
BEGIN:VEVENT
DTSTART;TZID=UTC:20140106T060000
DTEND;TZID=UTC:20140106T235559
DTSTAMP:20260423T200245
CREATED:20140106T034247Z
LAST-MODIFIED:20140106T034247Z
UID:1359-1388988000-1389052559@nurturingdevelopment.com
SUMMARY:Emergency Closing
DESCRIPTION:
URL:https://nurturingdevelopment.com/event/emergency-closing/
CATEGORIES:NDLA Calendar
END:VEVENT
BEGIN:VEVENT
DTSTART;VALUE=DATE:20131220
DTEND;VALUE=DATE:20131221
DTSTAMP:20260423T200245
CREATED:20130917T143524Z
LAST-MODIFIED:20130917T143524Z
UID:1181-1387497600-1387583999@nurturingdevelopment.com
SUMMARY:NDLA Closes at 12:00pm
DESCRIPTION:
URL:https://nurturingdevelopment.com/event/ndla-closes-at-1200pm/
CATEGORIES:NDLA Calendar
END:VEVENT
BEGIN:VEVENT
DTSTART;TZID=UTC:20131121T063000
DTEND;TZID=UTC:20131121T193059
DTSTAMP:20260423T200245
CREATED:20130917T143032Z
LAST-MODIFIED:20130917T143042Z
UID:1176-1385015400-1385062259@nurturingdevelopment.com
SUMMARY:Family Partnership night
DESCRIPTION:
URL:https://nurturingdevelopment.com/event/family-partnership-night-14/
CATEGORIES:NDLA Calendar
END:VEVENT
BEGIN:VEVENT
DTSTART;VALUE=DATE:20131107
DTEND;VALUE=DATE:20131108
DTSTAMP:20260423T200245
CREATED:20130917T142950Z
LAST-MODIFIED:20130917T142950Z
UID:1175-1383782400-1383868799@nurturingdevelopment.com
SUMMARY:Career Day
DESCRIPTION:
URL:https://nurturingdevelopment.com/event/career-day-2/
CATEGORIES:NDLA Calendar
END:VEVENT
BEGIN:VEVENT
DTSTART;VALUE=DATE:20131029
DTEND;VALUE=DATE:20131030
DTSTAMP:20260423T200245
CREATED:20130917T142846Z
LAST-MODIFIED:20130917T142846Z
UID:1174-1383004800-1383091199@nurturingdevelopment.com
SUMMARY:Hearing and vision screening (non PFA)
DESCRIPTION:Starting at 9:00 AM
URL:https://nurturingdevelopment.com/event/hearing-and-vision-screening-non-pfa/
CATEGORIES:NDLA Calendar
END:VEVENT
BEGIN:VEVENT
DTSTART;TZID=UTC:20131025T160000
DTEND;TZID=UTC:20131025T180059
DTSTAMP:20260423T200245
CREATED:20130917T142501Z
LAST-MODIFIED:20130917T142501Z
UID:1173-1382716800-1382724059@nurturingdevelopment.com
SUMMARY:Taffy Apple Pick-up
DESCRIPTION:
URL:https://nurturingdevelopment.com/event/taffy-apple-pick-up-2/
CATEGORIES:NDLA Calendar
END:VEVENT
BEGIN:VEVENT
DTSTART;VALUE=DATE:20131017
DTEND;VALUE=DATE:20131019
DTSTAMP:20260423T200245
CREATED:20130917T142403Z
LAST-MODIFIED:20130917T142403Z
UID:1172-1381968000-1382140799@nurturingdevelopment.com
SUMMARY:Fall Pictures
DESCRIPTION:
URL:https://nurturingdevelopment.com/event/fall-pictures-2/
CATEGORIES:NDLA Calendar
END:VEVENT
BEGIN:VEVENT
DTSTART;TZID=UTC:20131016T170000
DTEND;TZID=UTC:20131016T190059
DTSTAMP:20260423T200245
CREATED:20130917T142156Z
LAST-MODIFIED:20130917T142205Z
UID:1171-1381942800-1381950059@nurturingdevelopment.com
SUMMARY:Parent Teacher Conference
DESCRIPTION:
URL:https://nurturingdevelopment.com/event/parent-teacher-conference-5/
CATEGORIES:NDLA Calendar
END:VEVENT
BEGIN:VEVENT
DTSTART;VALUE=DATE:20131011
DTEND;VALUE=DATE:20131012
DTSTAMP:20260423T200245
CREATED:20130917T142053Z
LAST-MODIFIED:20130917T142053Z
UID:1169-1381449600-1381535999@nurturingdevelopment.com
SUMMARY:Taffy Apple Fundraiser Due
DESCRIPTION:
URL:https://nurturingdevelopment.com/event/taffy-apple-fundraiser-due-2/
CATEGORIES:NDLA Calendar
END:VEVENT
BEGIN:VEVENT
DTSTART;TZID=UTC:20131004T090000
DTEND;TZID=UTC:20131004T130059
DTSTAMP:20260423T200245
CREATED:20130917T142003Z
LAST-MODIFIED:20130917T142003Z
UID:1168-1380877200-1380891659@nurturingdevelopment.com
SUMMARY:Pumpkin Patch Field Trip
DESCRIPTION:
URL:https://nurturingdevelopment.com/event/pumpkin-patch-field-trip-2/
CATEGORIES:NDLA Calendar
END:VEVENT
BEGIN:VEVENT
DTSTART;TZID=UTC:20130926T183000
DTEND;TZID=UTC:20130926T193059
DTSTAMP:20260423T200245
CREATED:20130917T141927Z
LAST-MODIFIED:20130917T141927Z
UID:1167-1380220200-1380223859@nurturingdevelopment.com
SUMMARY:Family Partnership Night
DESCRIPTION:
URL:https://nurturingdevelopment.com/event/family-partnership-night-13/
CATEGORIES:NDLA Calendar
END:VEVENT
BEGIN:VEVENT
DTSTART;VALUE=DATE:20130920
DTEND;VALUE=DATE:20130921
DTSTAMP:20260423T200245
CREATED:20130917T141809Z
LAST-MODIFIED:20130917T141809Z
UID:1166-1379635200-1379721599@nurturingdevelopment.com
SUMMARY:Kindergarten Book Fees Due
DESCRIPTION:Fees Due Date for Kindergarten Books
URL:https://nurturingdevelopment.com/event/kindergarten-book-fees-due/
CATEGORIES:NDLA Calendar
END:VEVENT
BEGIN:VEVENT
DTSTART;TZID=UTC:20130913T180000
DTEND;TZID=UTC:20130913T210059
DTSTAMP:20260423T200245
CREATED:20130917T141405Z
LAST-MODIFIED:20130917T141405Z
UID:1165-1379095200-1379106059@nurturingdevelopment.com
SUMMARY:Pajama Jam
DESCRIPTION:
URL:https://nurturingdevelopment.com/event/pajama-jam-4/
CATEGORIES:NDLA Calendar
END:VEVENT
BEGIN:VEVENT
DTSTART;TZID=UTC:20130913T090000
DTEND;TZID=UTC:20130913T130059
DTSTAMP:20260423T200245
CREATED:20130917T141224Z
LAST-MODIFIED:20130917T141224Z
UID:1163-1379062800-1379077259@nurturingdevelopment.com
SUMMARY:Apple Orchard Field Trip
DESCRIPTION:
URL:https://nurturingdevelopment.com/event/apple-orchard-field-trip-2/
CATEGORIES:NDLA Calendar
END:VEVENT
BEGIN:VEVENT
DTSTART;TZID=UTC:20130906T100000
DTEND;TZID=UTC:20130906T110059
DTSTAMP:20260423T200245
CREATED:20130917T140957Z
LAST-MODIFIED:20130917T141210Z
UID:1162-1378461600-1378465259@nurturingdevelopment.com
SUMMARY:Grandparent’s Day Celebration
DESCRIPTION:
URL:https://nurturingdevelopment.com/event/grandparents-day-celebration-2/
CATEGORIES:NDLA Calendar
END:VEVENT
BEGIN:VEVENT
DTSTART;VALUE=DATE:20130903
DTEND;VALUE=DATE:20130904
DTSTAMP:20260423T200245
CREATED:20130917T140859Z
LAST-MODIFIED:20130917T140859Z
UID:1161-1378166400-1378252799@nurturingdevelopment.com
SUMMARY:First Day of Class
DESCRIPTION:
URL:https://nurturingdevelopment.com/event/first-day-of-class-2/
CATEGORIES:NDLA Calendar
END:VEVENT
BEGIN:VEVENT
DTSTART;VALUE=DATE:20130902
DTEND;VALUE=DATE:20130903
DTSTAMP:20260423T200245
CREATED:20130917T140648Z
LAST-MODIFIED:20130917T140801Z
UID:1160-1378080000-1378166399@nurturingdevelopment.com
SUMMARY:Labor Day
DESCRIPTION:NDLA -Closed
URL:https://nurturingdevelopment.com/event/labor-day/
CATEGORIES:NDLA Calendar
END:VEVENT
END:VCALENDAR