BEGIN:VCALENDAR
VERSION:2.0
PRODID:-//NDLA - &quot;We&#039;re the Place Where Learning Comes First&quot; - ECPv6.15.13//NONSGML v1.0//EN
CALSCALE:GREGORIAN
METHOD:PUBLISH
X-WR-CALNAME:NDLA - &quot;We&#039;re the Place Where Learning Comes First&quot;
X-ORIGINAL-URL:https://nurturingdevelopment.com
X-WR-CALDESC:Events for NDLA - &quot;We&#039;re the Place Where Learning Comes First&quot;
REFRESH-INTERVAL;VALUE=DURATION:PT1H
X-Robots-Tag:noindex
X-PUBLISHED-TTL:PT1H
BEGIN:VTIMEZONE
TZID:UTC
BEGIN:STANDARD
TZOFFSETFROM:+0000
TZOFFSETTO:+0000
TZNAME:UTC
DTSTART:20110101T000000
END:STANDARD
END:VTIMEZONE
BEGIN:VEVENT
DTSTART;VALUE=DATE:20130411
DTEND;VALUE=DATE:20130413
DTSTAMP:20260424T024437
CREATED:20121020T162411Z
LAST-MODIFIED:20121020T162622Z
UID:912-1365638400-1365811199@nurturingdevelopment.com
SUMMARY:Spring Pictures
DESCRIPTION:
URL:https://nurturingdevelopment.com/event/spring-pictures/
END:VEVENT
BEGIN:VEVENT
DTSTART;VALUE=DATE:20130329
DTEND;VALUE=DATE:20130330
DTSTAMP:20260424T024437
CREATED:20121020T162241Z
LAST-MODIFIED:20121020T162241Z
UID:911-1364515200-1364601599@nurturingdevelopment.com
SUMMARY:Good Friday – NDLA Closed
DESCRIPTION:
URL:https://nurturingdevelopment.com/event/good-friday-ndla-closed/
CATEGORIES:NDLA Calendar
END:VEVENT
BEGIN:VEVENT
DTSTART;TZID=UTC:20130328T183000
DTEND;TZID=UTC:20130328T183059
DTSTAMP:20260424T024437
CREATED:20121020T162135Z
LAST-MODIFIED:20121020T162135Z
UID:910-1364495400-1364495459@nurturingdevelopment.com
SUMMARY:Spring Program Thornridge H.S.
DESCRIPTION:
URL:https://nurturingdevelopment.com/event/spring-program-thornridge-h-s-2/
CATEGORIES:NDLA Calendar
END:VEVENT
BEGIN:VEVENT
DTSTART;TZID=UTC:20130326T183000
DTEND;TZID=UTC:20130326T193059
DTSTAMP:20260424T024437
CREATED:20121020T162016Z
LAST-MODIFIED:20121020T162016Z
UID:909-1364322600-1364326259@nurturingdevelopment.com
SUMMARY:Family Partnership Night
DESCRIPTION:
URL:https://nurturingdevelopment.com/event/family-partnership-night-11/
END:VEVENT
BEGIN:VEVENT
DTSTART;VALUE=DATE:20130322
DTEND;VALUE=DATE:20130323
DTSTAMP:20260424T024437
CREATED:20121020T161923Z
LAST-MODIFIED:20121020T161923Z
UID:908-1363910400-1363996799@nurturingdevelopment.com
SUMMARY:Spring Fundraiser Money Due
DESCRIPTION:
URL:https://nurturingdevelopment.com/event/spring-fundraiser-money-due/
END:VEVENT
BEGIN:VEVENT
DTSTART;VALUE=DATE:20130311
DTEND;VALUE=DATE:20130316
DTSTAMP:20260424T024437
CREATED:20121020T161816Z
LAST-MODIFIED:20121020T161816Z
UID:907-1362960000-1363391999@nurturingdevelopment.com
SUMMARY:Real Men Read Week
DESCRIPTION:
URL:https://nurturingdevelopment.com/event/real-men-read-week-2/
END:VEVENT
BEGIN:VEVENT
DTSTART;TZID=UTC:20130226T183000
DTEND;TZID=UTC:20130226T193059
DTSTAMP:20260424T024437
CREATED:20121020T161712Z
LAST-MODIFIED:20121020T161712Z
UID:906-1361903400-1361907059@nurturingdevelopment.com
SUMMARY:Family Partnership Night
DESCRIPTION:
URL:https://nurturingdevelopment.com/event/family-partnership-night-10/
END:VEVENT
BEGIN:VEVENT
DTSTART;TZID=UTC:20130222T150000
DTEND;TZID=UTC:20130222T160059
DTSTAMP:20260424T024437
CREATED:20121020T161417Z
LAST-MODIFIED:20121020T161423Z
UID:905-1361545200-1361548859@nurturingdevelopment.com
SUMMARY:Black History Program
DESCRIPTION:
URL:https://nurturingdevelopment.com/event/black-history-program-2/
CATEGORIES:NDLA Calendar
END:VEVENT
BEGIN:VEVENT
DTSTART;VALUE=DATE:20130220
DTEND;VALUE=DATE:20130221
DTSTAMP:20260424T024437
CREATED:20121020T161340Z
LAST-MODIFIED:20121020T161340Z
UID:904-1361318400-1361404799@nurturingdevelopment.com
SUMMARY:Smile Mobile Dentist Program
DESCRIPTION:
URL:https://nurturingdevelopment.com/event/smile-mobile-dentist-program-2/
CATEGORIES:NDLA Calendar
END:VEVENT
BEGIN:VEVENT
DTSTART;VALUE=DATE:20130218
DTEND;VALUE=DATE:20130219
DTSTAMP:20260424T024437
CREATED:20121020T161248Z
LAST-MODIFIED:20121020T161248Z
UID:903-1361145600-1361231999@nurturingdevelopment.com
SUMMARY:President’s Day – No School for students
DESCRIPTION:
URL:https://nurturingdevelopment.com/event/presidents-day-no-school-for-students/
END:VEVENT
BEGIN:VEVENT
DTSTART;TZID=UTC:20130213T170000
DTEND;TZID=UTC:20130213T190059
DTSTAMP:20260424T024437
CREATED:20121020T161145Z
LAST-MODIFIED:20121020T161150Z
UID:902-1360774800-1360782059@nurturingdevelopment.com
SUMMARY:Parent Teacher Conference
DESCRIPTION:
URL:https://nurturingdevelopment.com/event/parent-teacher-conference-3/
CATEGORIES:NDLA Calendar
END:VEVENT
BEGIN:VEVENT
DTSTART;VALUE=DATE:20130204
DTEND;VALUE=DATE:20130205
DTSTAMP:20260424T024437
CREATED:20121020T161059Z
LAST-MODIFIED:20121020T161059Z
UID:901-1359936000-1360022399@nurturingdevelopment.com
SUMMARY:Hearing and Vision Re-screening (non PFA)
DESCRIPTION:
URL:https://nurturingdevelopment.com/event/hearing-and-vision-re-screening-non-pfa/
END:VEVENT
BEGIN:VEVENT
DTSTART;TZID=UTC:20130129T183000
DTEND;TZID=UTC:20130129T193059
DTSTAMP:20260424T024437
CREATED:20121020T160552Z
LAST-MODIFIED:20121020T160922Z
UID:899-1359484200-1359487859@nurturingdevelopment.com
SUMMARY:Family Partnership Night
DESCRIPTION:
URL:https://nurturingdevelopment.com/event/family-partnership-night-9/
CATEGORIES:NDLA Calendar
END:VEVENT
BEGIN:VEVENT
DTSTART;VALUE=DATE:20130121
DTEND;VALUE=DATE:20130122
DTSTAMP:20260424T024437
CREATED:20121020T155251Z
LAST-MODIFIED:20121020T155251Z
UID:897-1358726400-1358812799@nurturingdevelopment.com
SUMMARY:Martin Luther King Jr. Day – NDLA Closed
DESCRIPTION:
URL:https://nurturingdevelopment.com/event/martin-luther-king-jr-day-ndla-closed/
CATEGORIES:NDLA Calendar
END:VEVENT
BEGIN:VEVENT
DTSTART;TZID=UTC:20130111T180000
DTEND;TZID=UTC:20130111T210059
DTSTAMP:20260424T024437
CREATED:20121020T155005Z
LAST-MODIFIED:20121020T160008Z
UID:896-1357927200-1357938059@nurturingdevelopment.com
SUMMARY:Pajama Jam
DESCRIPTION:
URL:https://nurturingdevelopment.com/event/pajama-jam-2/
CATEGORIES:NDLA Calendar
END:VEVENT
BEGIN:VEVENT
DTSTART;VALUE=DATE:20130102
DTEND;VALUE=DATE:20130103
DTSTAMP:20260424T024437
CREATED:20121020T154603Z
LAST-MODIFIED:20121020T154603Z
UID:895-1357084800-1357171199@nurturingdevelopment.com
SUMMARY:School Resumes
DESCRIPTION:
URL:https://nurturingdevelopment.com/event/school-resumes/
CATEGORIES:NDLA Calendar
END:VEVENT
BEGIN:VEVENT
DTSTART;TZID=UTC:20121224T060000
DTEND;TZID=UTC:20130101T180059
DTSTAMP:20260424T024437
CREATED:20121020T154431Z
LAST-MODIFIED:20121020T154431Z
UID:893-1356328800-1357063259@nurturingdevelopment.com
SUMMARY:Christmas Observed - NDLA Closed
DESCRIPTION:
URL:https://nurturingdevelopment.com/event/christmas-observed-ndla-closed/
CATEGORIES:NDLA Calendar
END:VEVENT
BEGIN:VEVENT
DTSTART;TZID=UTC:20121127T183000
DTEND;TZID=UTC:20121127T193059
DTSTAMP:20260424T024437
CREATED:20121020T154107Z
LAST-MODIFIED:20121020T154209Z
UID:892-1354041000-1354044659@nurturingdevelopment.com
SUMMARY:Family Partnership Night
DESCRIPTION:
URL:https://nurturingdevelopment.com/event/family-partnership-night-7/
CATEGORIES:NDLA Calendar
END:VEVENT
BEGIN:VEVENT
DTSTART;VALUE=DATE:20121122
DTEND;VALUE=DATE:20121123
DTSTAMP:20260424T024437
CREATED:20121020T153607Z
LAST-MODIFIED:20121020T153822Z
UID:891-1353542400-1353628799@nurturingdevelopment.com
SUMMARY:Thanksgiving Recess (closed)
DESCRIPTION:
URL:https://nurturingdevelopment.com/event/thanksgiving-recess-closed/
CATEGORIES:NDLA Calendar
END:VEVENT
BEGIN:VEVENT
DTSTART;VALUE=DATE:20121108
DTEND;VALUE=DATE:20121109
DTSTAMP:20260424T024437
CREATED:20121020T150311Z
LAST-MODIFIED:20121020T152005Z
UID:889-1352332800-1352419199@nurturingdevelopment.com
SUMMARY:Career Day
DESCRIPTION:
URL:https://nurturingdevelopment.com/event/career-day/
CATEGORIES:NDLA Calendar
END:VEVENT
BEGIN:VEVENT
DTSTART;TZID=UTC:20121026T160000
DTEND;TZID=UTC:20121026T180059
DTSTAMP:20260424T024437
CREATED:20121020T135344Z
LAST-MODIFIED:20121020T135351Z
UID:888-1351267200-1351274459@nurturingdevelopment.com
SUMMARY:Taffy Apple Pick-up
DESCRIPTION:
URL:https://nurturingdevelopment.com/event/taffy-apple-pick-up/
CATEGORIES:NDLA Calendar
END:VEVENT
BEGIN:VEVENT
DTSTART;VALUE=DATE:20121023
DTEND;VALUE=DATE:20121024
DTSTAMP:20260424T024437
CREATED:20121020T135040Z
LAST-MODIFIED:20121020T135241Z
UID:886-1350950400-1351036799@nurturingdevelopment.com
SUMMARY:Hearing & Vision Screening (non PFA
DESCRIPTION:
URL:https://nurturingdevelopment.com/event/hearing-vision-screening-non-pfa/
CATEGORIES:NDLA Calendar
END:VEVENT
BEGIN:VEVENT
DTSTART;TZID=UTC:20121020T183000
DTEND;TZID=UTC:20121020T193059
DTSTAMP:20260424T024437
CREATED:20121020T163535Z
LAST-MODIFIED:20121020T163542Z
UID:919-1350757800-1350761459@nurturingdevelopment.com
SUMMARY:Final Family Partnership Night
DESCRIPTION:
URL:https://nurturingdevelopment.com/event/final-family-partnership-night-2/
CATEGORIES:NDLA Calendar
END:VEVENT
BEGIN:VEVENT
DTSTART;TZID=UTC:20121020T183000
DTEND;TZID=UTC:20121020T193059
DTSTAMP:20260424T024437
CREATED:20121020T135214Z
LAST-MODIFIED:20121020T135214Z
UID:887-1350757800-1350761459@nurturingdevelopment.com
SUMMARY:Family Partnership Night
DESCRIPTION:
URL:https://nurturingdevelopment.com/event/family-partnership-night-6/
CATEGORIES:NDLA Calendar
END:VEVENT
BEGIN:VEVENT
DTSTART;TZID=UTC:20121020T060000
DTEND;TZID=UTC:20121020T150059
DTSTAMP:20260424T024437
CREATED:20121020T152403Z
LAST-MODIFIED:20121020T152403Z
UID:890-1350712800-1350745259@nurturingdevelopment.com
SUMMARY:Close Early
DESCRIPTION:
URL:https://nurturingdevelopment.com/event/close-early/
CATEGORIES:NDLA Calendar
END:VEVENT
BEGIN:VEVENT
DTSTART;TZID=UTC:20121018T170000
DTEND;TZID=UTC:20121018T190059
DTSTAMP:20260424T024437
CREATED:20120929T132315Z
LAST-MODIFIED:20121020T135237Z
UID:879-1350579600-1350586859@nurturingdevelopment.com
SUMMARY:Parent teacher Conference
DESCRIPTION:
URL:https://nurturingdevelopment.com/event/parent-teacher-conference-2/
CATEGORIES:NDLA Calendar
END:VEVENT
BEGIN:VEVENT
DTSTART;VALUE=DATE:20121018
DTEND;VALUE=DATE:20121019
DTSTAMP:20260424T024437
CREATED:20120929T133346Z
LAST-MODIFIED:20121020T135232Z
UID:880-1350518400-1350604799@nurturingdevelopment.com
SUMMARY:Fall Pictures
DESCRIPTION:
URL:https://nurturingdevelopment.com/event/fall-pictures/
CATEGORIES:NDLA Calendar
END:VEVENT
BEGIN:VEVENT
DTSTART;VALUE=DATE:20121012
DTEND;VALUE=DATE:20121013
DTSTAMP:20260424T024437
CREATED:20120929T132028Z
LAST-MODIFIED:20121020T135248Z
UID:878-1350000000-1350086399@nurturingdevelopment.com
SUMMARY:Taffy Apple Fundraiser Due
DESCRIPTION:
URL:https://nurturingdevelopment.com/event/taffy-apple-fundraiser-due/
CATEGORIES:NDLA Calendar
END:VEVENT
BEGIN:VEVENT
DTSTART;TZID=UTC:20121005T090000
DTEND;TZID=UTC:20121005T130059
DTSTAMP:20260424T024437
CREATED:20120929T131833Z
LAST-MODIFIED:20121020T135252Z
UID:877-1349427600-1349442059@nurturingdevelopment.com
SUMMARY:Pumpkin Patch Field Trip
DESCRIPTION:
URL:https://nurturingdevelopment.com/event/pumpkin-patch-field-trip/
CATEGORIES:NDLA Calendar
END:VEVENT
BEGIN:VEVENT
DTSTART;TZID=UTC:20120929T180000
DTEND;TZID=UTC:20120929T210059
DTSTAMP:20260424T024437
CREATED:20120929T131155Z
LAST-MODIFIED:20120929T131155Z
UID:875-1348941600-1348952459@nurturingdevelopment.com
SUMMARY:Pajama Jam
DESCRIPTION:
URL:https://nurturingdevelopment.com/event/pajama-jam/
CATEGORIES:NDLA Calendar
END:VEVENT
END:VCALENDAR