BEGIN:VCALENDAR
VERSION:2.0
PRODID:-//NDLA - &quot;We&#039;re the Place Where Learning Comes First&quot; - ECPv6.15.13//NONSGML v1.0//EN
CALSCALE:GREGORIAN
METHOD:PUBLISH
X-ORIGINAL-URL:https://nurturingdevelopment.com
X-WR-CALDESC:Events for NDLA - &quot;We&#039;re the Place Where Learning Comes First&quot;
REFRESH-INTERVAL;VALUE=DURATION:PT1H
X-Robots-Tag:noindex
X-PUBLISHED-TTL:PT1H
BEGIN:VTIMEZONE
TZID:UTC
BEGIN:STANDARD
TZOFFSETFROM:+0000
TZOFFSETTO:+0000
TZNAME:UTC
DTSTART:20110101T000000
END:STANDARD
END:VTIMEZONE
BEGIN:VEVENT
DTSTART;TZID=UTC:20121026T160000
DTEND;TZID=UTC:20121026T180059
DTSTAMP:20260424T055513
CREATED:20121020T135344Z
LAST-MODIFIED:20121020T135351Z
UID:888-1351267200-1351274459@nurturingdevelopment.com
SUMMARY:Taffy Apple Pick-up
DESCRIPTION:
URL:https://nurturingdevelopment.com/event/taffy-apple-pick-up/
CATEGORIES:NDLA Calendar
END:VEVENT
BEGIN:VEVENT
DTSTART;VALUE=DATE:20121023
DTEND;VALUE=DATE:20121024
DTSTAMP:20260424T055513
CREATED:20121020T135040Z
LAST-MODIFIED:20121020T135241Z
UID:886-1350950400-1351036799@nurturingdevelopment.com
SUMMARY:Hearing & Vision Screening (non PFA
DESCRIPTION:
URL:https://nurturingdevelopment.com/event/hearing-vision-screening-non-pfa/
CATEGORIES:NDLA Calendar
END:VEVENT
BEGIN:VEVENT
DTSTART;TZID=UTC:20121020T183000
DTEND;TZID=UTC:20121020T193059
DTSTAMP:20260424T055513
CREATED:20121020T163535Z
LAST-MODIFIED:20121020T163542Z
UID:919-1350757800-1350761459@nurturingdevelopment.com
SUMMARY:Final Family Partnership Night
DESCRIPTION:
URL:https://nurturingdevelopment.com/event/final-family-partnership-night-2/
CATEGORIES:NDLA Calendar
END:VEVENT
BEGIN:VEVENT
DTSTART;TZID=UTC:20121020T183000
DTEND;TZID=UTC:20121020T193059
DTSTAMP:20260424T055513
CREATED:20121020T135214Z
LAST-MODIFIED:20121020T135214Z
UID:887-1350757800-1350761459@nurturingdevelopment.com
SUMMARY:Family Partnership Night
DESCRIPTION:
URL:https://nurturingdevelopment.com/event/family-partnership-night-6/
CATEGORIES:NDLA Calendar
END:VEVENT
BEGIN:VEVENT
DTSTART;TZID=UTC:20121020T060000
DTEND;TZID=UTC:20121020T150059
DTSTAMP:20260424T055513
CREATED:20121020T152403Z
LAST-MODIFIED:20121020T152403Z
UID:890-1350712800-1350745259@nurturingdevelopment.com
SUMMARY:Close Early
DESCRIPTION:
URL:https://nurturingdevelopment.com/event/close-early/
CATEGORIES:NDLA Calendar
END:VEVENT
BEGIN:VEVENT
DTSTART;TZID=UTC:20121018T170000
DTEND;TZID=UTC:20121018T190059
DTSTAMP:20260424T055513
CREATED:20120929T132315Z
LAST-MODIFIED:20121020T135237Z
UID:879-1350579600-1350586859@nurturingdevelopment.com
SUMMARY:Parent teacher Conference
DESCRIPTION:
URL:https://nurturingdevelopment.com/event/parent-teacher-conference-2/
CATEGORIES:NDLA Calendar
END:VEVENT
BEGIN:VEVENT
DTSTART;VALUE=DATE:20121018
DTEND;VALUE=DATE:20121019
DTSTAMP:20260424T055513
CREATED:20120929T133346Z
LAST-MODIFIED:20121020T135232Z
UID:880-1350518400-1350604799@nurturingdevelopment.com
SUMMARY:Fall Pictures
DESCRIPTION:
URL:https://nurturingdevelopment.com/event/fall-pictures/
CATEGORIES:NDLA Calendar
END:VEVENT
BEGIN:VEVENT
DTSTART;VALUE=DATE:20121012
DTEND;VALUE=DATE:20121013
DTSTAMP:20260424T055513
CREATED:20120929T132028Z
LAST-MODIFIED:20121020T135248Z
UID:878-1350000000-1350086399@nurturingdevelopment.com
SUMMARY:Taffy Apple Fundraiser Due
DESCRIPTION:
URL:https://nurturingdevelopment.com/event/taffy-apple-fundraiser-due/
CATEGORIES:NDLA Calendar
END:VEVENT
BEGIN:VEVENT
DTSTART;TZID=UTC:20121005T090000
DTEND;TZID=UTC:20121005T130059
DTSTAMP:20260424T055513
CREATED:20120929T131833Z
LAST-MODIFIED:20121020T135252Z
UID:877-1349427600-1349442059@nurturingdevelopment.com
SUMMARY:Pumpkin Patch Field Trip
DESCRIPTION:
URL:https://nurturingdevelopment.com/event/pumpkin-patch-field-trip/
CATEGORIES:NDLA Calendar
END:VEVENT
BEGIN:VEVENT
DTSTART;TZID=UTC:20120929T180000
DTEND;TZID=UTC:20120929T210059
DTSTAMP:20260424T055513
CREATED:20120929T131155Z
LAST-MODIFIED:20120929T131155Z
UID:875-1348941600-1348952459@nurturingdevelopment.com
SUMMARY:Pajama Jam
DESCRIPTION:
URL:https://nurturingdevelopment.com/event/pajama-jam/
CATEGORIES:NDLA Calendar
END:VEVENT
BEGIN:VEVENT
DTSTART;TZID=UTC:20120925T183000
DTEND;TZID=UTC:20120925T193059
DTSTAMP:20260424T055513
CREATED:20120929T131440Z
LAST-MODIFIED:20121020T135300Z
UID:876-1348597800-1348601459@nurturingdevelopment.com
SUMMARY:Family Partnership Night
DESCRIPTION:
URL:https://nurturingdevelopment.com/event/family-partnership-night-5/
CATEGORIES:NDLA Calendar
END:VEVENT
BEGIN:VEVENT
DTSTART;TZID=UTC:20120914T090000
DTEND;TZID=UTC:20120914T130059
DTSTAMP:20260424T055513
CREATED:20120929T130917Z
LAST-MODIFIED:20120929T130917Z
UID:874-1347613200-1347627659@nurturingdevelopment.com
SUMMARY:Apple Orchard Field Trip
DESCRIPTION:
URL:https://nurturingdevelopment.com/event/apple-orchard-field-trip/
CATEGORIES:NDLA Calendar
END:VEVENT
BEGIN:VEVENT
DTSTART;TZID=UTC:20120907T100000
DTEND;TZID=UTC:20120907T110059
DTSTAMP:20260424T055513
CREATED:20120929T130701Z
LAST-MODIFIED:20120929T130701Z
UID:873-1347012000-1347015659@nurturingdevelopment.com
SUMMARY:Grandparent’s Day Celebration
DESCRIPTION:
URL:https://nurturingdevelopment.com/event/grandparents-day-celebration/
END:VEVENT
BEGIN:VEVENT
DTSTART;VALUE=DATE:20120904
DTEND;VALUE=DATE:20120905
DTSTAMP:20260424T055513
CREATED:20120929T125421Z
LAST-MODIFIED:20120929T125421Z
UID:872-1346716800-1346803199@nurturingdevelopment.com
SUMMARY:First Day of Class
DESCRIPTION:
URL:https://nurturingdevelopment.com/event/first-day-of-class/
CATEGORIES:NDLA Calendar
END:VEVENT
BEGIN:VEVENT
DTSTART;VALUE=DATE:20120903
DTEND;VALUE=DATE:20120904
DTSTAMP:20260424T055513
CREATED:20120929T125247Z
LAST-MODIFIED:20120929T125247Z
UID:871-1346630400-1346716799@nurturingdevelopment.com
SUMMARY:Labor Day - NDLA closed
DESCRIPTION:
URL:https://nurturingdevelopment.com/event/labor-day-ndla-closed/
CATEGORIES:NDLA Calendar
END:VEVENT
BEGIN:VEVENT
DTSTART;VALUE=DATE:20120604
DTEND;VALUE=DATE:20120605
DTSTAMP:20260424T055513
CREATED:20111224T160744Z
LAST-MODIFIED:20120209T080053Z
UID:244-1338768000-1338854399@nurturingdevelopment.com
SUMMARY:Summer Camp Begins
DESCRIPTION:Summer Camp Begins
URL:https://nurturingdevelopment.com/event/summer-camp-begins/
CATEGORIES:NDLA Calendar
END:VEVENT
BEGIN:VEVENT
DTSTART;TZID=UTC:20120601T100000
DTEND;TZID=UTC:20120601T170059
DTSTAMP:20260424T055513
CREATED:20111224T160708Z
LAST-MODIFIED:20111224T160708Z
UID:243-1338544800-1338570059@nurturingdevelopment.com
SUMMARY:Promotion Ceremony
DESCRIPTION:Promotion Ceremony
URL:https://nurturingdevelopment.com/event/promotion-ceremony/
END:VEVENT
BEGIN:VEVENT
DTSTART;TZID=UTC:20120529T180000
DTEND;TZID=UTC:20120529T193059
DTSTAMP:20260424T055513
CREATED:20111224T160621Z
LAST-MODIFIED:20111224T160621Z
UID:242-1338314400-1338319859@nurturingdevelopment.com
SUMMARY:Final Family Partnership Night
DESCRIPTION:Final Family Partnership Night
URL:https://nurturingdevelopment.com/event/final-family-partnership-night/
END:VEVENT
BEGIN:VEVENT
DTSTART;VALUE=DATE:20120528
DTEND;VALUE=DATE:20120529
DTSTAMP:20260424T055513
CREATED:20111224T160538Z
LAST-MODIFIED:20111224T160538Z
UID:241-1338163200-1338249599@nurturingdevelopment.com
SUMMARY:Memorial Day
DESCRIPTION:Memorial Day—— NDLA Closed
URL:https://nurturingdevelopment.com/event/memorial-day/
END:VEVENT
BEGIN:VEVENT
DTSTART;VALUE=DATE:20120518
DTEND;VALUE=DATE:20120519
DTSTAMP:20260424T055513
CREATED:20111224T160447Z
LAST-MODIFIED:20111224T160447Z
UID:240-1337299200-1337385599@nurturingdevelopment.com
SUMMARY:Summer Contract Due
DESCRIPTION:Summer Contract Due
URL:https://nurturingdevelopment.com/event/summer-contract-due/
END:VEVENT
BEGIN:VEVENT
DTSTART;TZID=UTC:20120515T170000
DTEND;TZID=UTC:20120515T190059
DTSTAMP:20260424T055513
CREATED:20111224T160406Z
LAST-MODIFIED:20111224T160406Z
UID:239-1337101200-1337108459@nurturingdevelopment.com
SUMMARY:Parent Teacher’s Conference
DESCRIPTION:Parent Teacher’s Conference
URL:https://nurturingdevelopment.com/event/parent-teachers-conference/
END:VEVENT
BEGIN:VEVENT
DTSTART;VALUE=DATE:20120504
DTEND;VALUE=DATE:20120505
DTSTAMP:20260424T055513
CREATED:20111224T160309Z
LAST-MODIFIED:20111224T160309Z
UID:238-1336089600-1336175999@nurturingdevelopment.com
SUMMARY:Graduation Fee Due
DESCRIPTION:Graduation Fee Due
URL:https://nurturingdevelopment.com/event/graduation-fee-due/
END:VEVENT
BEGIN:VEVENT
DTSTART;TZID=UTC:20120424T183000
DTEND;TZID=UTC:20120424T193059
DTSTAMP:20260424T055513
CREATED:20111224T160208Z
LAST-MODIFIED:20111224T160218Z
UID:237-1335292200-1335295859@nurturingdevelopment.com
SUMMARY:Family Partnership Night
DESCRIPTION:Family Partnership Night
URL:https://nurturingdevelopment.com/event/family-partnership-night-4/
END:VEVENT
BEGIN:VEVENT
DTSTART;VALUE=DATE:20120412
DTEND;VALUE=DATE:20120414
DTSTAMP:20260424T055513
CREATED:20111224T160022Z
LAST-MODIFIED:20111224T160108Z
UID:236-1334188800-1334361599@nurturingdevelopment.com
SUMMARY:Spring Pictures
DESCRIPTION:Spring Pictures
URL:https://nurturingdevelopment.com/event/good-friday-school-closed/
END:VEVENT
BEGIN:VEVENT
DTSTART;TZID=UTC:20120405T183000
DTEND;TZID=UTC:20120405T200059
DTSTAMP:20260424T055513
CREATED:20111224T155922Z
LAST-MODIFIED:20111224T155922Z
UID:235-1333650600-1333656059@nurturingdevelopment.com
SUMMARY:Spring Program - Thornridge H.S.
DESCRIPTION:Spring Program Thornridge H.S. @ 6:30pm
URL:https://nurturingdevelopment.com/event/spring-program-thornridge-h-s/
END:VEVENT
BEGIN:VEVENT
DTSTART;TZID=UTC:20120327T183000
DTEND;TZID=UTC:20120327T193059
DTSTAMP:20260424T055513
CREATED:20111224T155717Z
LAST-MODIFIED:20111224T155717Z
UID:233-1332873000-1332876659@nurturingdevelopment.com
SUMMARY:Family Partnership Night
DESCRIPTION:March 27th Family partnership Night 6:30pm-7:30pm
URL:https://nurturingdevelopment.com/event/family-partnership-night-3/
END:VEVENT
BEGIN:VEVENT
DTSTART;VALUE=DATE:20120323
DTEND;VALUE=DATE:20120324
DTSTAMP:20260424T055513
CREATED:20111224T155811Z
LAST-MODIFIED:20111224T155811Z
UID:234-1332460800-1332547199@nurturingdevelopment.com
SUMMARY:Spring Fundraising Money Due
DESCRIPTION:Spring Fundraiser Money Due
URL:https://nurturingdevelopment.com/event/spring-fundraising-money-due/
END:VEVENT
BEGIN:VEVENT
DTSTART;VALUE=DATE:20120312
DTEND;VALUE=DATE:20120317
DTSTAMP:20260424T055513
CREATED:20111224T155417Z
LAST-MODIFIED:20111224T155417Z
UID:232-1331510400-1331942399@nurturingdevelopment.com
SUMMARY:Real Men Read Week
DESCRIPTION:March 12th-16th Real Men Read Week
URL:https://nurturingdevelopment.com/event/real-men-read-week/
END:VEVENT
BEGIN:VEVENT
DTSTART;TZID=UTC:20120228T183000
DTEND;TZID=UTC:20120228T193059
DTSTAMP:20260424T055513
CREATED:20111224T155123Z
LAST-MODIFIED:20111224T155123Z
UID:231-1330453800-1330457459@nurturingdevelopment.com
SUMMARY:Family Partnership Night
DESCRIPTION:Feb. 28th Family Partnership Night 6:30pm-7:30pm
URL:https://nurturingdevelopment.com/event/family-partnership-night-2/
END:VEVENT
BEGIN:VEVENT
DTSTART;TZID=UTC:20120224T030000
DTEND;TZID=UTC:20120224T160059
DTSTAMP:20260424T055513
CREATED:20111224T155015Z
LAST-MODIFIED:20111224T155015Z
UID:230-1330052400-1330099259@nurturingdevelopment.com
SUMMARY:Black History Program
DESCRIPTION:Feb. 24th Black History Program 3:00pm-4:00pm
URL:https://nurturingdevelopment.com/event/black-history-program/
END:VEVENT
END:VCALENDAR